BEGIN:VCALENDAR
VERSION:2.0
PRODID:https://www.kufer.de/kuferweb / DE
METHOD:PUBLISH
CALSCALE:GREGORIAN
X-WR-TIMEZONE:Europe/Berlin
BEGIN:VTIMEZONE
TZID:Europe/Berlin
X-LIC-LOCATION:Europe/Berlin
BEGIN:DAYLIGHT
TZOFFSETFROM:+0100
TZOFFSETTO:+0200
TZNAME:CEST
DTSTART:19700329T020000
RRULE:FREQ=YEARLY;INTERVAL=1;BYDAY=-1SU;BYMONTH=3
END:DAYLIGHT
BEGIN:STANDARD
TZOFFSETFROM:+0200
TZOFFSETTO:+0100
TZNAME:CET
DTSTART:19701025T030000
RRULE:FREQ=YEARLY;INTERVAL=1;BYDAY=-1SU;BYMONTH=10
END:STANDARD
END:VTIMEZONE
BEGIN:VEVENT
DTSTAMP:20260422T133847
DTSTART;TZID=Europe/Berlin:20260831T173000
DTEND;TZID=Europe/Berlin:20260831T190000
UID:2627303-20260831T173000@VHSOSTERHOLZ-SCHARMBECK
SUMMARY:Französisch Mittelstufe (A2/B1) (2627303) 
LOCATION:Bildungshaus im Campus, Dialograum, Lange Str. 28, 27711 Osterholz-Scharmbeck
END:VEVENT
BEGIN:VEVENT
DTSTAMP:20260422T133847
DTSTART;TZID=Europe/Berlin:20260907T173000
DTEND;TZID=Europe/Berlin:20260907T190000
UID:2627303-20260907T173000@VHSOSTERHOLZ-SCHARMBECK
SUMMARY:Französisch Mittelstufe (A2/B1) (2627303) 
LOCATION:Bildungshaus im Campus, Dialograum, Lange Str. 28, 27711 Osterholz-Scharmbeck
END:VEVENT
BEGIN:VEVENT
DTSTAMP:20260422T133847
DTSTART;TZID=Europe/Berlin:20260914T173000
DTEND;TZID=Europe/Berlin:20260914T190000
UID:2627303-20260914T173000@VHSOSTERHOLZ-SCHARMBECK
SUMMARY:Französisch Mittelstufe (A2/B1) (2627303) 
LOCATION:Bildungshaus im Campus, Dialograum, Lange Str. 28, 27711 Osterholz-Scharmbeck
END:VEVENT
BEGIN:VEVENT
DTSTAMP:20260422T133847
DTSTART;TZID=Europe/Berlin:20260921T173000
DTEND;TZID=Europe/Berlin:20260921T190000
UID:2627303-20260921T173000@VHSOSTERHOLZ-SCHARMBECK
SUMMARY:Französisch Mittelstufe (A2/B1) (2627303) 
LOCATION:Bildungshaus im Campus, Dialograum, Lange Str. 28, 27711 Osterholz-Scharmbeck
END:VEVENT
BEGIN:VEVENT
DTSTAMP:20260422T133847
DTSTART;TZID=Europe/Berlin:20260928T173000
DTEND;TZID=Europe/Berlin:20260928T190000
UID:2627303-20260928T173000@VHSOSTERHOLZ-SCHARMBECK
SUMMARY:Französisch Mittelstufe (A2/B1) (2627303) 
LOCATION:Bildungshaus im Campus, Dialograum, Lange Str. 28, 27711 Osterholz-Scharmbeck
END:VEVENT
BEGIN:VEVENT
DTSTAMP:20260422T133847
DTSTART;TZID=Europe/Berlin:20261102T173000
DTEND;TZID=Europe/Berlin:20261102T190000
UID:2627303-20261102T173000@VHSOSTERHOLZ-SCHARMBECK
SUMMARY:Französisch Mittelstufe (A2/B1) (2627303) 
LOCATION:Bildungshaus im Campus, Dialograum, Lange Str. 28, 27711 Osterholz-Scharmbeck
END:VEVENT
BEGIN:VEVENT
DTSTAMP:20260422T133847
DTSTART;TZID=Europe/Berlin:20261109T173000
DTEND;TZID=Europe/Berlin:20261109T190000
UID:2627303-20261109T173000@VHSOSTERHOLZ-SCHARMBECK
SUMMARY:Französisch Mittelstufe (A2/B1) (2627303) 
LOCATION:Bildungshaus im Campus, Dialograum, Lange Str. 28, 27711 Osterholz-Scharmbeck
END:VEVENT
BEGIN:VEVENT
DTSTAMP:20260422T133847
DTSTART;TZID=Europe/Berlin:20261116T173000
DTEND;TZID=Europe/Berlin:20261116T190000
UID:2627303-20261116T173000@VHSOSTERHOLZ-SCHARMBECK
SUMMARY:Französisch Mittelstufe (A2/B1) (2627303) 
LOCATION:Bildungshaus im Campus, Dialograum, Lange Str. 28, 27711 Osterholz-Scharmbeck
END:VEVENT
BEGIN:VEVENT
DTSTAMP:20260422T133847
DTSTART;TZID=Europe/Berlin:20261123T173000
DTEND;TZID=Europe/Berlin:20261123T190000
UID:2627303-20261123T173000@VHSOSTERHOLZ-SCHARMBECK
SUMMARY:Französisch Mittelstufe (A2/B1) (2627303) 
LOCATION:Bildungshaus im Campus, Dialograum, Lange Str. 28, 27711 Osterholz-Scharmbeck
END:VEVENT
BEGIN:VEVENT
DTSTAMP:20260422T133847
DTSTART;TZID=Europe/Berlin:20261130T173000
DTEND;TZID=Europe/Berlin:20261130T190000
UID:2627303-20261130T173000@VHSOSTERHOLZ-SCHARMBECK
DESCRIPTION:Ersatz für Ausfall am 05.10.2026
SUMMARY:Französisch Mittelstufe (A2/B1) (2627303) 
LOCATION:Bildungshaus im Campus, Dialograum, Lange Str. 28, 27711 Osterholz-Scharmbeck
END:VEVENT
END:VCALENDAR